BEGIN:VCALENDAR
PRODID:NingEventWidget-v1
VERSION:2.0
METHOD:PUBLISH
BEGIN:VTIMEZONE
TZID:America/New_York
X-LIC-LOCATION:America/New_York
BEGIN:DAYLIGHT
TZOFFSETFROM:-0500
TZOFFSETTO:-0400
TZNAME:EDT
DTSTART:19700308T020000
RRULE:FREQ=YEARLY;BYMONTH=3;BYDAY=2SU
END:DAYLIGHT
BEGIN:STANDARD
TZOFFSETFROM:-0400
TZOFFSETTO:-0500
TZNAME:EST
DTSTART:19701101T020000
RRULE:FREQ=YEARLY;BYMONTH=11;BYDAY=1SU
END:STANDARD
END:VTIMEZONE
BEGIN:VEVENT
UID:4922875:Event:86750
DTSTAMP:20260424T201644Z
SUMMARY:7pm Cheer for the Mary Wade Home!
DESCRIPTION:Hey Fair Haven!\r\nYou may know that our neighborhood's ow
 n Mary Wade Home has been battling COVID-19 in recent weeks.  Let's s
 how our support for their residents and amazing, hard-working staff!\r
 \nTONIGHT at 7pm please come in your FACE MASK with cow bells, pots, p
 ans, and your lively voices to offer a 2 min cheer of support for all 
 at Mary Wade.  \r\nCome to the streets surrounding Mary Wade, Clinto
 n Ave and Pine Street, at 6:55pm.  Remember to KEEP YOUR SAFE 6 FEET 
 from others.  Let's show our neighbors and health care heroes some lo
 ve!\n\nFor more information visit https://chathamsquare.ning.com/event
 s/7pm-cheer-for-the-mary-wade-home-3
DTSTART;TZID=America/New_York:20200513T190000
DTEND;TZID=America/New_York:20200513T191500
CATEGORIES:cheer
LOCATION:Mary Wade Home surrounding streets
WEBSITE:
URL:
CONTACT:
ORGANIZER:Laura Sundstrom
ATTACH;FMTTYPE="image/jpeg":https://storage.ning.com/topology/rest/1.0
 /file/get/4660834072?profile=original
ATTENDEE;ROLE=REQ-PARTICIPANT;PARTSTAT=ACCEPTED;RSVP=TRUE;CN="Sarah Mi
 ller":https://chathamsquare.ning.com/profile/SarahMiller
END:VEVENT
END:VCALENDAR
