BEGIN:VCALENDAR
PRODID:NingEventWidget-v1
VERSION:2.0
METHOD:PUBLISH
BEGIN:VTIMEZONE
TZID:America/New_York
X-LIC-LOCATION:America/New_York
BEGIN:DAYLIGHT
TZOFFSETFROM:-0500
TZOFFSETTO:-0400
TZNAME:EDT
DTSTART:19700308T020000
RRULE:FREQ=YEARLY;BYMONTH=3;BYDAY=2SU
END:DAYLIGHT
BEGIN:STANDARD
TZOFFSETFROM:-0400
TZOFFSETTO:-0500
TZNAME:EST
DTSTART:19701101T020000
RRULE:FREQ=YEARLY;BYMONTH=11;BYDAY=1SU
END:STANDARD
END:VTIMEZONE
BEGIN:VEVENT
UID:4922875:Event:57119
DTSTAMP:20260425T220113Z
SUMMARY:Huge Tag Sale this Sunday!!
DESCRIPTION:Join us on Novembrr 1st for a huge, local tag sale to supp
 ort Fair Haven's own Elm City Montessori School!!! Bake sale, tons of 
 great stuff for sale, including clothes, furniture, electronics, books
  and baby items - Farm Belly food truck will be there too!!\n\nHope to
  see you there!! 375 Quinnipiac Ave (at the school) from 12 - 3 pm\n\n
 For more information visit https://chathamsquare.ning.com/events/huge-
 tag-sale-this-sunday
DTSTART;TZID=America/New_York:20151101T120000
DTEND;TZID=America/New_York:20151101T150000
CATEGORIES:tag, sale
LOCATION:Elm City Montessori School
WEBSITE:
URL:
CONTACT:2037722889
ORGANIZER;CN="kerry brown":https://chathamsquare.ning.com/profile/kerr
 ymorrison
ATTACH;FMTTYPE="image/jpeg":http://storage.ning.com/topology/rest/1.0/
 file/get/3808683912?profile=original
ATTENDEE;ROLE=REQ-PARTICIPANT;PARTSTAT=ACCEPTED;RSVP=TRUE;CN="Lee Cruz
 ":https://chathamsquare.ning.com/profile/LeeCruz
ATTENDEE;ROLE=REQ-PARTICIPANT;PARTSTAT=ACCEPTED;RSVP=TRUE;CN="kerry br
 own":https://chathamsquare.ning.com/profile/kerrymorrison
END:VEVENT
END:VCALENDAR
