BEGIN:VCALENDAR
PRODID:NingEventWidget-v1
VERSION:2.0
METHOD:PUBLISH
BEGIN:VTIMEZONE
TZID:America/New_York
X-LIC-LOCATION:America/New_York
BEGIN:DAYLIGHT
TZOFFSETFROM:-0500
TZOFFSETTO:-0400
TZNAME:EDT
DTSTART:19700308T020000
RRULE:FREQ=YEARLY;BYMONTH=3;BYDAY=2SU
END:DAYLIGHT
BEGIN:STANDARD
TZOFFSETFROM:-0400
TZOFFSETTO:-0500
TZNAME:EST
DTSTART:19701101T020000
RRULE:FREQ=YEARLY;BYMONTH=11;BYDAY=1SU
END:STANDARD
END:VTIMEZONE
BEGIN:VEVENT
UID:4922875:Event:17002
DTSTAMP:20260423T084010Z
SUMMARY:International Market Place and Bazaar
DESCRIPTION:Fereshteh Bekhrad\nOf\n Oyster Harbor Village\nPresents
 \nSpectacular 2 day Event\nInternational Market Place and Bazaar\nRiv
 er Front Warehouse\n195 Front Street\nSaturday July 9th    12pm to
  8pm\nand\nSunday July 10th    2pm to 6pm\n \nUnique Furniture, A
 ccents and Jewelry\nFree Refreshments and Music\nOpen Mic Hosted by th
 e\nBlack Sheep Band\n\nFor more information visit https://chathamsquar
 e.ning.com/events/international-market-place-and
DTSTART;TZID=America/New_York:20110709T120000
DTEND;TZID=America/New_York:20110710T180000
CATEGORIES:bazaar
LOCATION:River Front Warehouse
WEBSITE:
URL:
CONTACT:
ORGANIZER:Fereshteh Bekhrad
ATTACH;FMTTYPE="image/jpeg":
ATTENDEE;ROLE=REQ-PARTICIPANT;PARTSTAT=ACCEPTED;RSVP=TRUE;CN="Lee Cruz
 ":https://chathamsquare.ning.com/profile/LeeCruz
END:VEVENT
END:VCALENDAR
