BEGIN:VCALENDAR
PRODID:NingEventWidget-v1
VERSION:2.0
METHOD:PUBLISH
BEGIN:VTIMEZONE
TZID:America/New_York
X-LIC-LOCATION:America/New_York
BEGIN:DAYLIGHT
TZOFFSETFROM:-0500
TZOFFSETTO:-0400
TZNAME:EDT
DTSTART:19700308T020000
RRULE:FREQ=YEARLY;BYMONTH=3;BYDAY=2SU
END:DAYLIGHT
BEGIN:STANDARD
TZOFFSETFROM:-0400
TZOFFSETTO:-0500
TZNAME:EST
DTSTART:19701101T020000
RRULE:FREQ=YEARLY;BYMONTH=11;BYDAY=1SU
END:STANDARD
END:VTIMEZONE
BEGIN:VEVENT
UID:4922875:Event:190170
DTSTAMP:20260424T023045Z
SUMMARY:Music Haven's Hispanic Heritage Celebration
DESCRIPTION:Join us as we kick off Music Haven's 2024-25 season with t
 he inaugural performance of the Haven String Quartet with its new memb
 ers, Linda Numagami and Dr. Patrick Doane. This event celebrates Hispa
 nic Heritage and marks the launch of Music Haven’s Voices: Untold St
 ories series, an inspirational storytelling experience sponsored by th
 e International Association of New Haven.\nFor our first presentation 
 in the Voices: Untold Stories series, the storyteller shares their ext
 raordinary journey from Mexico as the quartet brings their experiences
  to life through improvisations.\nAll are welcome! Come as you are! Th
 is is a FREE (no cost), family-friendly event where children/students 
 are encouraged to participate in an \"Instrument Petting Zoo\" after t
 he performance!\n\nFor more information visit https://chathamsquare.ni
 ng.com/events/music-haven-s-hispanic-heritage-celebration
DTSTART;TZID=America/New_York:20240921T110000
DTEND;TZID=America/New_York:20240921T120000
CATEGORIES:free, concert
LOCATION:Fair Haven Branch Library
WEBSITE:https://www.musichavenct.org/
URL:https://www.musichavenct.org/
CONTACT:2037459030
ORGANIZER;CN="Music Haven":https://chathamsquare.ning.com/profile/Kari
 naIrizarry
ATTACH;FMTTYPE="image/jpeg":https://storage.ning.com/topology/rest/1.0
 /file/get/12940519863?profile=original
ATTENDEE;ROLE=REQ-PARTICIPANT;PARTSTAT=ACCEPTED;RSVP=TRUE;CN="Music Ha
 ven":https://chathamsquare.ning.com/profile/KarinaIrizarry
END:VEVENT
END:VCALENDAR
