BEGIN:VCALENDAR
PRODID:NingEventWidget-v1
VERSION:2.0
METHOD:PUBLISH
BEGIN:VTIMEZONE
TZID:America/New_York
X-LIC-LOCATION:America/New_York
BEGIN:DAYLIGHT
TZOFFSETFROM:-0500
TZOFFSETTO:-0400
TZNAME:EDT
DTSTART:19700308T020000
RRULE:FREQ=YEARLY;BYMONTH=3;BYDAY=2SU
END:DAYLIGHT
BEGIN:STANDARD
TZOFFSETFROM:-0400
TZOFFSETTO:-0500
TZNAME:EST
DTSTART:19701101T020000
RRULE:FREQ=YEARLY;BYMONTH=11;BYDAY=1SU
END:STANDARD
END:VTIMEZONE
BEGIN:VEVENT
UID:4922875:Event:191161
DTSTAMP:20260424T023445Z
SUMMARY:Surviving and Thriving the Holidays with Dementia
DESCRIPTION:Join us for an insightful presentation titled Surviving an
 d Thriving the Holidays with Dementia, led by Mary Underwood, a season
 ed Dementia Care Professional and Advocate with over 35 years of exper
 ience. In this session, we will explore the unique challenges faced by
  individuals living with dementia, particularly during the holiday sea
 son, and the vital role that traditions play in maintaining a sense of
  normalcy and connection.\nMary will share practical advice on how fam
 ilies can adapt holiday traditions to honor the dignity and needs of t
 heir loved ones, ensuring that everyone can participate meaningfully.\
 n\nFor more information visit https://chathamsquare.ning.com/events/su
 rviving-and-thriving-the-holidays-with-dementia
DTSTART;TZID=America/New_York:20241211T083000
DTEND;TZID=America/New_York:20241211T100000
CATEGORIES:education, seminar, community
LOCATION:Chatham Place At Mary Wade
WEBSITE:https://chathamplace.org/newsandevents/surviving-and-thriving-
 the-holidays-with-dementia-education-class/
URL:https://chathamplace.org/newsandevents/surviving-and-thriving-the-
 holidays-with-dementia-education-class/
CONTACT:2036727813
ORGANIZER;CN="Kara Hunter":https://chathamsquare.ning.com/profile/Kara
 Hunter
ATTACH;FMTTYPE="image/jpeg":
ATTENDEE;ROLE=REQ-PARTICIPANT;PARTSTAT=ACCEPTED;RSVP=TRUE;CN="Kara Hun
 ter":https://chathamsquare.ning.com/profile/KaraHunter
END:VEVENT
END:VCALENDAR
