BEGIN:VCALENDAR
PRODID:NingEventWidget-v1
VERSION:2.0
METHOD:PUBLISH
BEGIN:VTIMEZONE
TZID:America/New_York
X-LIC-LOCATION:America/New_York
BEGIN:DAYLIGHT
TZOFFSETFROM:-0500
TZOFFSETTO:-0400
TZNAME:EDT
DTSTART:19700308T020000
RRULE:FREQ=YEARLY;BYMONTH=3;BYDAY=2SU
END:DAYLIGHT
BEGIN:STANDARD
TZOFFSETFROM:-0400
TZOFFSETTO:-0500
TZNAME:EST
DTSTART:19701101T020000
RRULE:FREQ=YEARLY;BYMONTH=11;BYDAY=1SU
END:STANDARD
END:VTIMEZONE
BEGIN:VEVENT
UID:4922875:Event:86056
DTSTAMP:20260420T040233Z
SUMMARY:Virtual Zumba® Kids/Kids Jr. classes
DESCRIPTION:Virtual Zumba® Kids/Kids Jr. classes via Zoom.\nI am so e
 xcited to bring some fitness fun to our little ones.❣ Best part, we
  encourage parents to join in on the fun (all ages welcome)\nHelp us s
 hare the fun. To Register, go to our www.beyondfitnessct.com (under 
 classes).\n\nFor more information visit https://chathamsquare.ning.com
 /events/virtual-zumba-kids-kids-jr-classes
DTSTART;TZID=America/New_York:20200416T120000
DTEND;TZID=America/New_York:20200416T123000
CATEGORIES:family, fitness
LOCATION:From the Comfort of your Home
WEBSITE:http://www.beyondfitnessct.com
URL:http://www.beyondfitnessct.com
CONTACT:2032855393
ORGANIZER;CN="Ivette Altieri":https://chathamsquare.ning.com/profile/I
 vetteAltieri
ATTACH;FMTTYPE="image/jpeg":https://storage.ning.com/topology/rest/1.0
 /file/get/4416228079?profile=original
ATTENDEE;ROLE=REQ-PARTICIPANT;PARTSTAT=ACCEPTED;RSVP=TRUE;CN="Ivette A
 ltieri":https://chathamsquare.ning.com/profile/IvetteAltieri
END:VEVENT
END:VCALENDAR
