BEGIN:VCALENDAR
PRODID:NingEventWidget-v1
VERSION:2.0
METHOD:PUBLISH
BEGIN:VTIMEZONE
TZID:America/New_York
X-LIC-LOCATION:America/New_York
BEGIN:DAYLIGHT
TZOFFSETFROM:-0500
TZOFFSETTO:-0400
TZNAME:EDT
DTSTART:19700308T020000
RRULE:FREQ=YEARLY;BYMONTH=3;BYDAY=2SU
END:DAYLIGHT
BEGIN:STANDARD
TZOFFSETFROM:-0400
TZOFFSETTO:-0500
TZNAME:EST
DTSTART:19701101T020000
RRULE:FREQ=YEARLY;BYMONTH=11;BYDAY=1SU
END:STANDARD
END:VTIMEZONE
BEGIN:VEVENT
UID:4922875:Event:196138
DTSTAMP:20260425T062610Z
SUMMARY:Woodshop 101: Meet the Machines
DESCRIPTION:In this hands-on Woodshop 101 workshop, participants will 
 learn how to safely and confidently use core woodshop machines. This c
 lass focuses on understanding essential stationary tools—including t
 he table saw, miter saw, and drill press—rather than completing a fi
 nished project. It’s an ideal first step for anyone curious about wo
 odworking or looking to build comfort and confidence in a shared shop 
 environment.\nWhat to Expect Expect a guided, instructor-led session w
 ith live demonstrations and supervised hands-on practice. The instruct
 or will walk through how each machine works, what it’s best used for
 , and how to operate it safely. Participants will observe proper setup
  and adjustments, ask questions, and try each tool under supervision. 
 The pace is beginner-friendly and designed to reduce intimidation arou
 nd large shop equipment.\nSkills You’ll Acquire • Understanding th
 e basic functions of the table saw, miter saw, and drill press\n• Sa
 fe startup, operation, and shutdown procedures\n• Making basic cuts 
 and drilled holes accurately\n• Recognizing common shop safety risks
  and how to avoid them\n• Increased confidence navigating a woodshop
  environment\nWhat’s Provided • All tools and materials needed for
  demonstrations and practice\n• Safety equipment including eye and h
 earing protection\n• Instruction and supervision from an experienced
  woodshop instructor\nWho Should Attend This class is ideal for comple
 te beginners, curious tinkerers, or anyone looking for a low-pressure 
 introduction to woodworking tools. No prior experience is required, an
 d MakeHaven membership is not required to attend.\nPrerequisites/Safet
 y Information No prerequisites. Closed-toe shoes are required, and lon
 g hair must be tied back. This class focuses on safe operation and awa
 reness and is suitable for adults comfortable working in a shop enviro
 nment with instructor guidance.\nInstructor: Akeera Peterkin\nYou must
  click below and REGISTER to attend at:\nhttps://www.makehaven.org/civ
 icrm/event/info?id=795&reset=1\nScroll to the bottom of the page and c
 omplete the information under Register (gray box) and hit submit. You 
 will receive an acknowledgement by email. Questions? Email info@makeha
 ven.org\n\nFor more information visit https://chathamsquare.ning.com/e
 vents/woodshop-101-meet-the-machines
DTSTART;TZID=America/New_York:20260125T170000
DTEND;TZID=America/New_York:20260125T190000
CATEGORIES:woodshop, workshop
LOCATION:MakeHaven
WEBSITE:https://www.makehaven.org/civicrm/event/info?id=795&amp;reset=
 1
URL:https://www.makehaven.org/civicrm/event/info?id=795&amp;reset=1
CONTACT:
ORGANIZER;CN="Brenda Brown":https://chathamsquare.ning.com/profile/Bre
 ndaBrown
ATTACH;FMTTYPE="image/jpeg":https://storage.ning.com/topology/rest/1.0
 /file/get/31063172078?profile=original
END:VEVENT
END:VCALENDAR
